BEGIN:VCALENDAR
VERSION:2.0
PRODID:-//wp-events-plugin.com//6.4.10//EN
TZID:Europe/Vienna
X-WR-TIMEZONE:Europe/Vienna
BEGIN:VEVENT
UID:869@verkehrsakademie.at
DTSTART;TZID=Europe/Vienna:20180630T000000
DTEND;TZID=Europe/Vienna:20180630T000000
DTSTAMP:20180504T145544Z
URL:https://www.verkehrsakademie.at/events/the-s2r-rail-research-innovatio
 n-awards/
SUMMARY:The S2R Rail Research & Innovation Awards
DESCRIPTION:Shift2Rail initiierte die Rail Research &amp\; Innovation Award
 s\, um das Engagement und den Fortschritt von Projektteams in Europa und d
 arüber hinaus zu würdigen\, die innovative Lösungen für eine Transform
 ation in den Europäischen Bahnsystemen schaffen. Es gibt folgende 3 Kateg
 orien: The Decarbonisation Award\, to acknowledge the project expected to 
 deliver the most energy efficient solutions\, The Digitalisation Award\, t
 o be bestowed to the project showing the most innovative expected results 
 utilising breakthrough technologies und The Project Management Award\, to 
 honour the best organised project showing the capacity to adapt to evolvin
 g technologies.\n\nInformation
CATEGORIES:Ausschreibungen
END:VEVENT
BEGIN:VTIMEZONE
TZID:Europe/Vienna
X-LIC-LOCATION:Europe/Vienna
BEGIN:DAYLIGHT
DTSTART:20180325T030000
TZOFFSETFROM:+0100
TZOFFSETTO:+0200
TZNAME:CEST
END:DAYLIGHT
END:VTIMEZONE
END:VCALENDAR