BEGIN:VCALENDAR
VERSION:2.0
PRODID:-//wp-events-plugin.com//6.4.10//EN
TZID:Europe/Vienna
X-WR-TIMEZONE:Europe/Vienna
BEGIN:VEVENT
UID:1650@verkehrsakademie.at
DTSTART;TZID=Europe/Vienna:20260618T000000
DTEND;TZID=Europe/Vienna:20260618T000000
DTSTAMP:20260421T080452Z
URL:https://www.verkehrsakademie.at/events/transformation-durch-verbindung
 -6-monate-koralmbahn/
SUMMARY:Transformation durch Verbindung – 6 Monate Koralmbahn
DESCRIPTION:Mit der Inbetriebnahme der Koralmbahn hat sich der Wirtschafts-
  und Mobilitätsraum Süd grundlegend verändert. Sechs Monate nach dem St
 art der neuen Verbindung zieht die ÖVG gemeinsam mit Expert:innen aus Wir
 tschaft\, Verkehr\, Logistik und Politik eine erste Zwischenbilanz – und
  richtet den Blick nach vorne. Die Besonderheit der Veranstaltung: Sie beg
 innt in Graz und führt die Teilnehmer:innen entlang der neuen Achse bis n
 ach Klagenfurt.\n\nWeitere Informationen
CATEGORIES:Veranstaltungen
END:VEVENT
BEGIN:VTIMEZONE
TZID:Europe/Vienna
X-LIC-LOCATION:Europe/Vienna
BEGIN:DAYLIGHT
DTSTART:20260329T030000
TZOFFSETFROM:+0100
TZOFFSETTO:+0200
TZNAME:CEST
END:DAYLIGHT
END:VTIMEZONE
END:VCALENDAR