BEGIN:VCALENDAR
VERSION:2.0
PRODID:-//wp-events-plugin.com//6.4.10//EN
TZID:Europe/Vienna
X-WR-TIMEZONE:Europe/Vienna
BEGIN:VEVENT
UID:170@verkehrsakademie.at
DTSTART;TZID=Europe/Vienna:20151028T130000
DTEND;TZID=Europe/Vienna:20151028T170000
DTSTAMP:20150819T102340Z
URL:https://www.verkehrsakademie.at/events/transportrecht-kompakt/
SUMMARY:Transportrecht kompakt
DESCRIPTION:Udapte 2015/2016!\n\nProgramm Transportrecht kompakt\n\n&nbsp\;
 \n\n&nbsp\;
CATEGORIES:Veranstaltungen
LOCATION:Gasthof Bacher\, Vassacherstraße 58\, Villach\, 9500\, Österreic
 h
GEO:46.6324607;13.845630300000039
X-APPLE-STRUCTURED-LOCATION;VALUE=URI;X-ADDRESS=Vassacherstraße 58\, Villa
 ch\, 9500\, Österreich;X-APPLE-RADIUS=100;X-TITLE=Gasthof Bacher:geo:46.6
 324607,13.845630300000039
END:VEVENT
BEGIN:VTIMEZONE
TZID:Europe/Vienna
X-LIC-LOCATION:Europe/Vienna
BEGIN:STANDARD
DTSTART:20151025T020000
TZOFFSETFROM:+0200
TZOFFSETTO:+0100
TZNAME:CET
END:STANDARD
END:VTIMEZONE
END:VCALENDAR