BEGIN:VCALENDAR
VERSION:2.0
PRODID:-//wp-events-plugin.com//6.4.10//EN
TZID:Europe/Vienna
X-WR-TIMEZONE:Europe/Vienna
BEGIN:VEVENT
UID:1192@verkehrsakademie.at
DTSTART;TZID=Europe/Vienna:20200526T130000
DTEND;TZID=Europe/Vienna:20200526T170000
DTSTAMP:20200212T111218Z
URL:https://www.verkehrsakademie.at/events/umsatzsteuer-fuer-transport-und
 -logistik-3/
SUMMARY:Umsatzsteuer für Transport und Logistik
DESCRIPTION:Im Bereich Transport und Logistik stellt die Umsetzung umsatzst
 euerlicher Vorschriften regelmäßig eine große Herausforderung dar. Hoch
 komplexe Regelungen müssen im Tagesgeschäft automatisch und richtig in d
 er Buchhaltung und den Steuererklärungen umgesetzt werden. In diesem Semi
 nar wird das Dickicht des Umsatzsteuerrechts im Bereich Transport und Logi
 stik gelichtet! Inhaltlich werden alle umsatzsteuerlichen Bereiche abgedec
 kt\, von denen Spediteure\, Frachtführer und Auftraggeber in der Praxis b
 etroffen sind.\n\nErhalten Sie mehr als nur einen umsatzsteuerlichen Leitf
 aden für Ihre tägliche Praxis! Anhand einer Matrix in Form von Umsatzste
 uercodes werden die verschiedenen umsatzsteuerlichen Möglichkeiten unmitt
 elbar für die Buchhaltung verwertbar zusammengefasst.\n\nArbeitsschwerpun
 kte:\nGüterbeförderungsleistungen &amp\; Nebenleistungen einschließlich
  Umsatzsteuerbefreiungen\nUmschlag\, Lagerung und ähnliche Leistungen als
  selbständige Leistung\nArbeiten an beweglichen körperlichen Gegenständ
 en als selbständige Leistung\nAn- und Vermieten von Beförderungsmittel u
 nd Containern\nVermieten von Geschäftsräumlichkeiten und Lagerflächen\n
 Besorgen und Vermittlung von Leistungen\nUmsatzsteuercodes\nMeldepflichten
  für Spediteure und Frachtführer\nEntstehen und Fälligkeit der Umsatzst
 euerschuld\nUmsatzsteuererklärung\nZusammenfassende Meldung\nMeldung an d
 ie Statistik Austria\n\nZielgruppe:\nLeiter und Mitarbeiter von Zoll-\, Im
 port- und Exportabteilungen\nLeiter und Mitarbeiter der Abteilungen Buchha
 ltung und Rechnungswesen\n\nFlyer Umsatzsteuer für Transport &amp\; Logis
 tik
CATEGORIES:Veranstaltungen,Weiterbildung
LOCATION:Hotel ibis Wien Mariahilf\, Mariahilfer Gürtel 22-24\, Wien\, Wie
 n\, 1060\, Österreich
GEO:48.1932249;16.339461700000015
X-APPLE-STRUCTURED-LOCATION;VALUE=URI;X-ADDRESS=Mariahilfer Gürtel 22-24\,
  Wien\, Wien\, 1060\, Österreich;X-APPLE-RADIUS=100;X-TITLE=Hotel ibis Wi
 en Mariahilf:geo:48.1932249,16.339461700000015
END:VEVENT
BEGIN:VTIMEZONE
TZID:Europe/Vienna
X-LIC-LOCATION:Europe/Vienna
BEGIN:DAYLIGHT
DTSTART:20200329T030000
TZOFFSETFROM:+0100
TZOFFSETTO:+0200
TZNAME:CEST
END:DAYLIGHT
END:VTIMEZONE
END:VCALENDAR