BEGIN:VCALENDAR
VERSION:2.0
PRODID:-//wp-events-plugin.com//6.4.10//EN
TZID:Europe/Vienna
X-WR-TIMEZONE:Europe/Vienna
BEGIN:VEVENT
UID:550@verkehrsakademie.at
DTSTART;TZID=Europe/Vienna:20170618T000000
DTEND;TZID=Europe/Vienna:20170618T000000
DTSTAMP:20170608T072154Z
URL:https://www.verkehrsakademie.at/events/vcoe-mobilitaetspreis-wien-2017
 /
SUMMARY:VCÖ Mobilitätspreis 2017
DESCRIPTION:Vorbildliche und zukunftsweisende Mobilitätsprojekte gesucht\n
 Beim VCÖ-Mobilitätspreis Wien können bereits umgesetzte oder in der Ums
 etzung gesicherte Projekte und Maßnahmen ebenso eingereicht werden\, wie 
 neuartige und visionäre Konzepte\, Ideen und noch nicht umgesetzte Projek
 te für ein klimaverträgliches Verkehrssystem der Zukunft.\n\nEine gesund
 e\, ressourcenschonende und platzsparende Mobilität ist möglich. Der VC
 Ö-Mobilitätspreis Wien sucht innovative und vorbildliche Ansätze aus fo
 lgenden Bereichen:\n\n 	Klimaverträglicher Personenverkehr\n 	Klimavertr
 äglicher Güterverkehr\n 	Technologien und Innovationen für Energieeffiz
 ienz und CO2-Reduktion\n 	Digitalisierung für eine klimaverträgliche Mob
 ilität\n 	Barrierefreie und sozial gerechte Mobilitätslösungen\n\nWeite
 re Information und Einreichung
CATEGORIES:Ausschreibungen
END:VEVENT
BEGIN:VTIMEZONE
TZID:Europe/Vienna
X-LIC-LOCATION:Europe/Vienna
BEGIN:DAYLIGHT
DTSTART:20170326T030000
TZOFFSETFROM:+0100
TZOFFSETTO:+0200
TZNAME:CEST
END:DAYLIGHT
END:VTIMEZONE
END:VCALENDAR