BEGIN:VCALENDAR
VERSION:2.0
PRODID:-//wp-events-plugin.com//6.4.10//EN
TZID:Europe/Vienna
X-WR-TIMEZONE:Europe/Vienna
BEGIN:VEVENT
UID:916@verkehrsakademie.at
DTSTART;TZID=Europe/Vienna:20190405T100000
DTEND;TZID=Europe/Vienna:20190409T180000
DTSTAMP:20180524T092900Z
URL:https://www.verkehrsakademie.at/events/verlaengerung-des-eu-schulungsn
 achweises-fuer-gefahrgutbeauftragte-allgemeiner-teil-strasse-2/
SUMMARY:Verlängerung des EU-Schulungsnachweises  für Gefahrgutbeauftragte
  Allgemeiner  Teil + Straße
DESCRIPTION:Sie eignen sich durch die Fortbildung den nach § 11 GGBG erfor
 derlichen Wissensstand zur Ausübung der Tätigkeit des/der Gefahrgutbeauf
 tragten für den Verkehrsträger Straße an. Damit verlängern Sie nach be
 standener Prüfung Ihren EU-Schulungsnachweis als Gefahrgutbeauftragte/-r 
 um weitere 5 Jahre.\n\nIdeal für: Personen\, deren EU-Schulungsnachweis z
 um Zeitpunkt der Prüfung noch höchstens 1 Jahr gültig ist.\n\nHinweis: 
 Zum Kurs und zur Prüfung aktuelles ADR-Handbuch und EU-Schulungsnachweis 
 mitnehmen!\n\nAbschluss: Die Prüfung findet im Normalfall am ersten Mittw
 och nach Kursende statt. Eine Anmeldung zur Prüfung (Veranstaltungsnummer
  94790) ist erforderlich. Prüfungsgebühr: € 85.
CATEGORIES:Weiterbildung
LOCATION:WIFI Wien\, Währinger Gürtel 97\, Wien\, Österreich\, 1180\, Wi
 en\, Österreich
GEO:48.2266139;16.34884169999998
X-APPLE-STRUCTURED-LOCATION;VALUE=URI;X-ADDRESS=Währinger Gürtel 97\, Wie
 n\, Österreich\, 1180\, Wien\, Österreich;X-APPLE-RADIUS=100;X-TITLE=WIF
 I Wien:geo:48.2266139,16.34884169999998
END:VEVENT
BEGIN:VTIMEZONE
TZID:Europe/Vienna
X-LIC-LOCATION:Europe/Vienna
BEGIN:DAYLIGHT
DTSTART:20190331T030000
TZOFFSETFROM:+0100
TZOFFSETTO:+0200
TZNAME:CEST
END:DAYLIGHT
END:VTIMEZONE
END:VCALENDAR