BEGIN:VCALENDAR
VERSION:2.0
PRODID:-//wp-events-plugin.com//6.4.10//EN
TZID:Europe/Vienna
X-WR-TIMEZONE:Europe/Vienna
BEGIN:VEVENT
UID:75@verkehrsakademie.at
DTSTART;TZID=Europe/Vienna:20151102T173000
DTEND;TZID=Europe/Vienna:20151104T210000
DTSTAMP:20150730T073103Z
URL:https://www.verkehrsakademie.at/events/vorbereitung-auf-die-taxilenker
 pruefung-2/
SUMMARY:Vorbereitung auf die Taxilenkerprüfung
DESCRIPTION:\n\nVoraussetzungen:\n\n- Lenkerberechtigung für die Gruppe B 
 (kein Probeführerschein!)\n- Nachweis\, dass mindestens das Jahr vor Auss
 tellung des Ausweises ein Pkw tatsächlich gelenkt wurde (z.B. durch Zulas
 sungsschein)\n- körperliche Leistungsfähigkeit\n- Vertrauenswürdigkeit 
 (innerhalb der letzten 5 Jahre: keine strafgerichtliche Verurteilung\, kei
 n Führerscheinentzug)\n- vollendetes 20. Lebensjahr\n- Nachweis über die
  Unterweisung in lebensrettenden Sofortmaßnahmen am Ort des Verkehrsunfal
 les im Ausmaß von mindestens 6 Stunden
CATEGORIES:Weiterbildung
LOCATION:WIFI Klagenfurt\, Lastenstraße 15\, Klagenfurt\, Kärnten\, 9020\
 , Österreich
GEO:46.6176459;14.318189200000006
X-APPLE-STRUCTURED-LOCATION;VALUE=URI;X-ADDRESS=Lastenstraße 15\, Klagenfu
 rt\, Kärnten\, 9020\, Österreich;X-APPLE-RADIUS=100;X-TITLE=WIFI Klagenf
 urt:geo:46.6176459,14.318189200000006
END:VEVENT
BEGIN:VTIMEZONE
TZID:Europe/Vienna
X-LIC-LOCATION:Europe/Vienna
BEGIN:STANDARD
DTSTART:20151025T020000
TZOFFSETFROM:+0200
TZOFFSETTO:+0100
TZNAME:CET
END:STANDARD
END:VTIMEZONE
END:VCALENDAR