BEGIN:VCALENDAR
VERSION:2.0
PRODID:-//wp-events-plugin.com//6.4.10//EN
TZID:Europe/Vienna
X-WR-TIMEZONE:Europe/Vienna
BEGIN:VEVENT
UID:74@verkehrsakademie.at
DTSTART;TZID=Europe/Vienna:20150907T173000
DTEND;TZID=Europe/Vienna:20150909T210000
DTSTAMP:20150730T071913Z
URL:https://www.verkehrsakademie.at/events/vorbereitung-auf-die-taxilenker
 pruefung/
SUMMARY:Vorbereitung auf die Taxilenkerprüfung
DESCRIPTION:Voraussetzungen:\n\n- Lenkerberechtigung für die Gruppe B (kei
 n Probeführerschein!)\n- Nachweis\, dass mindestens das Jahr vor Ausstell
 ung des Ausweises ein Pkw tatsächlich gelenkt wurde (z.B. durch Zulassung
 sschein)\n- körperliche Leistungsfähigkeit\n- Vertrauenswürdigkeit (inn
 erhalb der letzten 5 Jahre: keine strafgerichtliche Verurteilung\, kein F
 ührerscheinentzug)\n- vollendetes 20. Lebensjahr\n- Nachweis über die Un
 terweisung in lebensrettenden Sofortmaßnahmen am Ort des Verkehrsunfalles
  im Ausmaß von mindestens 6 Stunden
CATEGORIES:Weiterbildung
LOCATION:WIFI Klagenfurt\, Lastenstraße 15\, Klagenfurt\, Kärnten\, 9020\
 , Österreich
GEO:46.6176459;14.318189200000006
X-APPLE-STRUCTURED-LOCATION;VALUE=URI;X-ADDRESS=Lastenstraße 15\, Klagenfu
 rt\, Kärnten\, 9020\, Österreich;X-APPLE-RADIUS=100;X-TITLE=WIFI Klagenf
 urt:geo:46.6176459,14.318189200000006
END:VEVENT
BEGIN:VTIMEZONE
TZID:Europe/Vienna
X-LIC-LOCATION:Europe/Vienna
BEGIN:DAYLIGHT
DTSTART:20150329T030000
TZOFFSETFROM:+0100
TZOFFSETTO:+0200
TZNAME:CEST
END:DAYLIGHT
END:VTIMEZONE
END:VCALENDAR