BEGIN:VCALENDAR
VERSION:2.0
PRODID:-//wp-events-plugin.com//6.4.10//EN
TZID:Europe/Vienna
X-WR-TIMEZONE:Europe/Vienna
BEGIN:VEVENT
UID:117@verkehrsakademie.at
DTSTART;TZID=Europe/Vienna:20160606T183000
DTEND;TZID=Europe/Vienna:20160610T220000
DTSTAMP:20150831T100607Z
URL:https://www.verkehrsakademie.at/events/vorbereitungskurs-zur-taxilenke
 r-pruefung-mit-strassennetz-linz-5/
SUMMARY:Vorbereitungskurs zur Taxilenker-Prüfung mit Straßennetz Linz
DESCRIPTION:In diesem Kurs erarbeiten Sie sich das Wissen für eine erfolgr
 eiche Ablegung der Taxilenkerprüfung für Linz.\n\n&nbsp\;\n\nWeitere Inf
 ormationen
CATEGORIES:Weiterbildung
LOCATION:WIFI Linz\, Wiener Str. 150\, Linz\, Österreich
GEO:48.2799028;14.308498600000007
X-APPLE-STRUCTURED-LOCATION;VALUE=URI;X-ADDRESS=Wiener Str. 150\, Linz\, Ö
 sterreich;X-APPLE-RADIUS=100;X-TITLE=WIFI Linz:geo:48.2799028,14.308498600
 000007
END:VEVENT
BEGIN:VTIMEZONE
TZID:Europe/Vienna
X-LIC-LOCATION:Europe/Vienna
BEGIN:DAYLIGHT
DTSTART:20160327T030000
TZOFFSETFROM:+0100
TZOFFSETTO:+0200
TZNAME:CEST
END:DAYLIGHT
END:VTIMEZONE
END:VCALENDAR