BEGIN:VCALENDAR
VERSION:2.0
PRODID:-//wp-events-plugin.com//6.4.10//EN
TZID:Europe/Vienna
X-WR-TIMEZONE:Europe/Vienna
BEGIN:VEVENT
UID:73@verkehrsakademie.at
DTSTART;TZID=Europe/Vienna:20150923T160000
DTEND;TZID=Europe/Vienna:20160307T180000
DTSTAMP:20150729T063606Z
URL:https://www.verkehrsakademie.at/events/vorbesprechung-vorbereitungskur
 s-auf-die-eignungspruefung-im-gueterbefoerderungsgewerbe/
SUMMARY:Vorbesprechung Vorbereitungskurs auf die Eignungsprüfung im Güter
 beförderungsgewerbe
DESCRIPTION:Anmmeldung noch möglich!\nVA Nr: 70103.015 Lehrgangstermin Her
 bst: 31.08.2015 - 18.09.2015 Mo-Fr 14.00-22.00\nACHTUNG Vorbesprechung ver
 pflichtend! VA Nr. 70113.025 27.01.2015 Mi 17.00 -19.00\nVA Nr: 70103.025 
 Lehrgangstermin Frühjahr: 22.02.2016 - 11.03.2016 Mo-Fr 14.00-22.00\n\nSi
 e erhalten wichtige Informationen zum Kursumfang und -ablauf sowie zur Pr
 üfung. Weiters wird direkt durch das Amt der steiermärkischen Landesregi
 erung Ihre Zulassung überprüft. Daher ist diese Vorbesprechung eine Pfli
 chtveranstaltung.\nFür Fragen steht Ihnen Herr Mag. Jörg Geister gerne z
 ur Verfügung.\n\nWeiterführende Informationen
CATEGORIES:Weiterbildung
LOCATION:WIFI Steiermark\, Körblergasse 111-113\, Graz\, Österreich
GEO:47.0873956;15.438640299999975
X-APPLE-STRUCTURED-LOCATION;VALUE=URI;X-ADDRESS=Körblergasse 111-113\, Gra
 z\, Österreich;X-APPLE-RADIUS=100;X-TITLE=WIFI Steiermark:geo:47.0873956,
 15.438640299999975
END:VEVENT
BEGIN:VTIMEZONE
TZID:Europe/Vienna
X-LIC-LOCATION:Europe/Vienna
BEGIN:DAYLIGHT
DTSTART:20150329T030000
TZOFFSETFROM:+0100
TZOFFSETTO:+0200
TZNAME:CEST
END:DAYLIGHT
BEGIN:STANDARD
DTSTART:20151025T020000
TZOFFSETFROM:+0200
TZOFFSETTO:+0100
TZNAME:CET
END:STANDARD
END:VTIMEZONE
END:VCALENDAR