BEGIN:VCALENDAR
VERSION:2.0
PRODID:-//wp-events-plugin.com//6.4.10//EN
TZID:Europe/Vienna
X-WR-TIMEZONE:Europe/Vienna
BEGIN:VEVENT
UID:1489@verkehrsakademie.at
DTSTART;TZID=Europe/Vienna:20230125T000000
DTEND;TZID=Europe/Vienna:20230426T000000
DTSTAMP:20230303T090506Z
URL:https://www.verkehrsakademie.at/events/weiterentwicklung-von-testumgeb
 ungen-fuer-automatisiertes-fahren/
SUMMARY:Weiterentwicklung von Testumgebungen für automatisiertes Fahren
DESCRIPTION:Das BMK fördert mit rund 4 Mio. EUR die Weiterentwicklung von 
 Testumgebungen für automatisiertes Fahren. Testumgebungen sollen eine zen
 trale Rolle einnehmen\, um das Potential von automatisierten Fahrzeugen be
 sser zu verstehen\, deren technologische Weiterentwicklung zu ermöglichen
  und den Anpassungsbedarf für die physische und digitale Verkehrsinfrastr
 uktur und das Verkehrsmanagement zu verdeutlichen.\n\nEinreichschluss: 26.
  April\, 12:00:00 Uhr\nNähere Infos und den Ausschreibungsleitfaden finde
 n Sie hier.
CATEGORIES:Ausschreibungen
END:VEVENT
BEGIN:VTIMEZONE
TZID:Europe/Vienna
X-LIC-LOCATION:Europe/Vienna
BEGIN:STANDARD
DTSTART:20221030T020000
TZOFFSETFROM:+0200
TZOFFSETTO:+0100
TZNAME:CET
END:STANDARD
BEGIN:DAYLIGHT
DTSTART:20230326T030000
TZOFFSETFROM:+0100
TZOFFSETTO:+0200
TZNAME:CEST
END:DAYLIGHT
END:VTIMEZONE
END:VCALENDAR