BEGIN:VCALENDAR
VERSION:2.0
PRODID:-//wp-events-plugin.com//6.4.10//EN
TZID:Europe/Vienna
X-WR-TIMEZONE:Europe/Vienna
BEGIN:VEVENT
UID:1572@verkehrsakademie.at
DTSTART;TZID=Europe/Vienna:20240618T000000
DTEND;TZID=Europe/Vienna:20240618T000000
DTSTAMP:20240508T115845Z
URL:https://www.verkehrsakademie.at/events/wkoe-exporttag-2024/
SUMMARY:WKÖ-Exporttag 2024
DESCRIPTION:Der Exporttag ist Österreichs wichtigste Netzwerk-Veranstaltun
 g für Internationalisierung. Die Wirtschaftskammer Österreich inspirier
 t beim heurigen Exporttag am Die 18. Juni 2024 mit einem hochkarätigen Pr
 ogramm dazu\, beyond the box zu denken und damit international erfolgreich
  zu sein. Geopolitische Risiken und technologischer Wandel prägen aktuell
  die Weltwirtschaft. Gerade jetzt ist es wichtig\, auf die richtigen Zielm
 ärkte und Innovationsfelder zu setzen. Welche das sind und was es zu beac
 hten gilt\, behandeln über 100 Expert:innen in mehr als 30 Keynotes\, Tal
 ks und Panels. Sie haben auch die Möglichkeit zu Networking und Beratung
 sgesprächen mit den Wirtschaftsdelegierten der 64 AußenwirtschaftsCenter
  der WKÖ und vielen exportorientierten Aussteller:innen.\n\nWeitere Infor
 mationen
CATEGORIES:Veranstaltungen
END:VEVENT
BEGIN:VTIMEZONE
TZID:Europe/Vienna
X-LIC-LOCATION:Europe/Vienna
BEGIN:DAYLIGHT
DTSTART:20240331T030000
TZOFFSETFROM:+0100
TZOFFSETTO:+0200
TZNAME:CEST
END:DAYLIGHT
END:VTIMEZONE
END:VCALENDAR