BEGIN:VCALENDAR
VERSION:2.0
PRODID:-//wp-events-plugin.com//6.4.10//EN
TZID:Europe/Vienna
X-WR-TIMEZONE:Europe/Vienna
BEGIN:VEVENT
UID:1649@verkehrsakademie.at
DTSTART;TZID=Europe/Vienna:20260528T000000
DTEND;TZID=Europe/Vienna:20260528T000000
DTSTAMP:20260421T080238Z
URL:https://www.verkehrsakademie.at/events/wkoe-exporttag-2026/
SUMMARY:WKÖ-Exporttag 2026
DESCRIPTION:Am 28. Mai 2026 wird die Wirtschaftskammer Österreich erneut z
 um zentralen Treffpunkt für Internationalisierung\, Export und unternehme
 rische Chancen. Der Exporttag 26 ist das größte Internationalisierungs-E
 vent Zentraleuropas und bringt über 2.500 Entscheidungsträger:innen au
 s Wirtschaft\, Politik und internationalen Netzwerken zusammen.\n\nhttps:/
 /www.wko.at/aussenwirtschaft/exporttag
CATEGORIES:Veranstaltungen
END:VEVENT
BEGIN:VTIMEZONE
TZID:Europe/Vienna
X-LIC-LOCATION:Europe/Vienna
BEGIN:DAYLIGHT
DTSTART:20260329T030000
TZOFFSETFROM:+0100
TZOFFSETTO:+0200
TZNAME:CEST
END:DAYLIGHT
END:VTIMEZONE
END:VCALENDAR