BEGIN:VCALENDAR
VERSION:2.0
PRODID:-//wp-events-plugin.com//6.4.10//EN
TZID:Europe/Vienna
X-WR-TIMEZONE:Europe/Vienna
BEGIN:VEVENT
UID:1042@verkehrsakademie.at
DTSTART;TZID=Europe/Vienna:20181120T090000
DTEND;TZID=Europe/Vienna:20181120T170000
DTSTAMP:20180920T121817Z
URL:https://www.verkehrsakademie.at/events/workshop-umsatzsteuer-in-der-lo
 gistik/
SUMMARY:Workshop Umsatzsteuer in der Logistik
DESCRIPTION:In diesem Semianr werden Ihnen die gesetzlichen Grundlagen sowi
 e deren Umsetzung in der täglichen beruflichen Praxis verständlich und a
 nschaulich vermittelt. Damit reduzieren Sie auch das Risiko\, in Umsatzste
 uerbetrugsfälle verwickelt zu werden!\n\nMehr Informationen CMR_USt_Logis
 tik_F
CATEGORIES:Weiterbildung
LOCATION:Hotel Ibis Styles Linz\, Wankmüllerhofstraße 37\, 4020 Linz\, Ob
 erösterreich\, 4020\, Österreich
GEO:48.2810668;14.304692100000011
X-APPLE-STRUCTURED-LOCATION;VALUE=URI;X-ADDRESS=Wankmüllerhofstraße 37\, 
 4020 Linz\, Oberösterreich\, 4020\, Österreich;X-APPLE-RADIUS=100;X-TITL
 E=Hotel Ibis Styles Linz:geo:48.2810668,14.304692100000011
END:VEVENT
BEGIN:VTIMEZONE
TZID:Europe/Vienna
X-LIC-LOCATION:Europe/Vienna
BEGIN:STANDARD
DTSTART:20181028T020000
TZOFFSETFROM:+0200
TZOFFSETTO:+0100
TZNAME:CET
END:STANDARD
END:VTIMEZONE
END:VCALENDAR