BEGIN:VCALENDAR
VERSION:2.0
PRODID:-//wp-events-plugin.com//6.4.10//EN
TZID:Europe/Vienna
X-WR-TIMEZONE:Europe/Vienna
BEGIN:VEVENT
UID:1024@verkehrsakademie.at
DTSTART;TZID=Europe/Vienna;VALUE=DATE:20181004
DTEND;TZID=Europe/Vienna;VALUE=DATE:20181006
DTSTAMP:20180806T072956Z
URL:https://www.verkehrsakademie.at/events/xii-oesterreichische-fachkonfer
 enz-fuer-fussgaengerinnen-2018-konferenzprogramm/
SUMMARY:XII. Österreichische Fachkonferenz für FußgängerInnen 2018 - Ko
 nferenzprogramm
DESCRIPTION:\n\n\n\n\n\n\n\n\n\n\n\n\n\n\n\n\n\n\n\n\n\n\nZu Fuß aktiv mob
 il: Transformation öffentlicher Räume und sichere lebenswerte Straßen\n
 \nInformation\n\n\n\n\n\n\n\n\n\n\n\n\n\n\n\n\n\n\n\n\n\n\n
CATEGORIES:Veranstaltungen
LOCATION:Minoritensäle\, Mariahilferplatz 3\, Graz\, 8010\, Österreich
GEO:47.07258119999999;15.433209900000065
X-APPLE-STRUCTURED-LOCATION;VALUE=URI;X-ADDRESS=Mariahilferplatz 3\, Graz\,
  8010\, Österreich;X-APPLE-RADIUS=100;X-TITLE=Minoritensäle:geo:47.07258
 119999999,15.433209900000065
END:VEVENT
BEGIN:VTIMEZONE
TZID:Europe/Vienna
X-LIC-LOCATION:Europe/Vienna
BEGIN:DAYLIGHT
DTSTART:20180325T030000
TZOFFSETFROM:+0100
TZOFFSETTO:+0200
TZNAME:CEST
END:DAYLIGHT
END:VTIMEZONE
END:VCALENDAR