BEGIN:VCALENDAR
VERSION:2.0
PRODID:-//wp-events-plugin.com//6.4.10//EN
TZID:Europe/Vienna
X-WR-TIMEZONE:Europe/Vienna
BEGIN:VEVENT
UID:1283@verkehrsakademie.at
DTSTART;TZID=Europe/Vienna:20201109T090000
DTEND;TZID=Europe/Vienna:20201117T170000
DTSTAMP:20200910T124331Z
URL:https://www.verkehrsakademie.at/events/zoll-lehrgang-fuer-die-praxis-i
 n-nur-5-tagen-zum-zoll-profi-5/
SUMMARY:Zoll-Lehrgang für die Praxis - in nur 5 Tagen zum Zoll-Profi
DESCRIPTION:Werden Sie in nur 5 Tagen zum Zoll-Profi! Top-Vortragende au
 s der Wirtschaft und der österreichischen Zollverwaltung statten Sie 
 mit dem nötigen Praxis-Wissen aus!\n\nArbeitsschwerpunkte:\nTag 1: Basisw
 issen Zoll / Tag 2: Zolltarif / Tag 3: Zollverfahren im Export &amp\; Impo
 rt / Tag 4: Praxistransfer &amp\; Besondere Verfahren / Tag 5: Warenurspru
 ng &amp\; Zollpräferenzen\n\nBereits absolvierte Seminarmodule können in
  Absprache und gegen Vorlage der Seminarbestätigung angerechnet werden! 
  \n\nZielgruppen:\nZollverantwortliche und Export- und Importverantwortli
 che\nWirtschaftsanwälte\, Steuerberater\, Unternehmensberater\nInteressen
 svertretungen\nBerufliche Quereinsteiger\n\nZoll Lehrgang für die Praxis 
 - 5-tägig\n\n&nbsp\;\n\n&nbsp\;
CATEGORIES:Veranstaltungen,Weiterbildung
LOCATION:Hotel Ibis Wien Mariahilf\, Mariahilfer Gürtel 22-24\, Wien\, 106
 0\, Österreich
GEO:48.19319;16.339316
X-APPLE-STRUCTURED-LOCATION;VALUE=URI;X-ADDRESS=Mariahilfer Gürtel 22-24\,
  Wien\, 1060\, Österreich;X-APPLE-RADIUS=100;X-TITLE=Hotel Ibis Wien Mari
 ahilf:geo:48.19319,16.339316
END:VEVENT
BEGIN:VTIMEZONE
TZID:Europe/Vienna
X-LIC-LOCATION:Europe/Vienna
BEGIN:STANDARD
DTSTART:20201025T020000
TZOFFSETFROM:+0200
TZOFFSETTO:+0100
TZNAME:CET
END:STANDARD
END:VTIMEZONE
END:VCALENDAR