BEGIN:VCALENDAR
VERSION:2.0
PRODID:-//wp-events-plugin.com//6.4.10//EN
TZID:Europe/Vienna
X-WR-TIMEZONE:Europe/Vienna
BEGIN:VEVENT
UID:1302@verkehrsakademie.at
DTSTART;TZID=Europe/Vienna:20200426T090000
DTEND;TZID=Europe/Vienna:20200507T170000
DTSTAMP:20210413T075941Z
URL:https://www.verkehrsakademie.at/events/zoll-lehrgang-fuer-die-praxis-i
 n-nur-5-tagen-zum-zoll-profi-7/
SUMMARY:Zoll-Lehrgang für die Praxis - in nur 5 Tagen zum Zoll-Profi
DESCRIPTION:Werden Sie in SALZBURG in nur 5 Tagen zum Zoll-Profi! Top-Vort
 ragende aus der Wirtschaft und der österreichischen Zollverwaltung s
 tatten Sie mit dem nötigen Praxis-Wissen aus!\n\nArbeitsschwerpunkte:\nTa
 g 1: Basiswissen Zoll / Tag 2: Zolltarif / Tag 3: Zollverfahren im Export 
 &amp\; Import / Tag 4: Praxistransfer &amp\; Besondere Verfahren / Tag 5: 
 Warenursprung &amp\; Zollpräferenzen\n\nBereits absolvierte Seminarmodule
  können in Absprache und gegen Vorlage der Seminarbestätigung angerechne
 t werden!  \n\nZielgruppen:\nZollverantwortliche und Export- und Importv
 erantwortliche\nWirtschaftsanwälte\, Steuerberater\, Unternehmensberater\
 nInteressensvertretungen\nBerufliche Quereinsteiger\n\nZoll-Lehrgang für 
 die Praxis\n\n&nbsp\;\n\n&nbsp\;\n\n&nbsp\;
CATEGORIES:Veranstaltungen,Weiterbildung
LOCATION:Austria Trend Hotel Salzburg West\, \, Österreich
GEO:47.792133;12.989474
X-APPLE-STRUCTURED-LOCATION;VALUE=URI;X-ADDRESS=\, Österreich;X-APPLE-RADI
 US=100;X-TITLE=Austria Trend Hotel Salzburg West:geo:47.792133,12.989474
END:VEVENT
BEGIN:VTIMEZONE
TZID:Europe/Vienna
X-LIC-LOCATION:Europe/Vienna
BEGIN:DAYLIGHT
DTSTART:20200329T030000
TZOFFSETFROM:+0100
TZOFFSETTO:+0200
TZNAME:CEST
END:DAYLIGHT
END:VTIMEZONE
END:VCALENDAR