BEGIN:VCALENDAR
VERSION:2.0
PRODID:-//wp-events-plugin.com//6.4.10//EN
TZID:Europe/Vienna
X-WR-TIMEZONE:Europe/Vienna
BEGIN:VEVENT
UID:1303@verkehrsakademie.at
DTSTART;TZID=Europe/Vienna:20210928T090000
DTEND;TZID=Europe/Vienna:20211006T170000
DTSTAMP:20210512T191153Z
URL:https://www.verkehrsakademie.at/events/zoll-lehrgang-fuer-die-praxis-i
 n-nur-5-tagen-zum-zoll-profi-8/
SUMMARY:Zoll-Lehrgang für die Praxis - in nur 5 Tagen zum Zoll-Profi
DESCRIPTION:Werden Sie in GRAZ in nur 5 Tagen zum Zoll-Profi! Top-Vortrage
 nde aus der Wirtschaft und der österreichischen Zollverwaltung statt
 en Sie mit dem nötigen Praxis-Wissen aus!\n\nArbeitsschwerpunkte:\nTag 1:
  Basiswissen Zoll / Tag 2: Zolltarif / Tag 3: Zollverfahren im Export &amp
 \; Import / Tag 4: Praxistransfer &amp\; Besondere Verfahren / Tag 5: Ware
 nursprung &amp\; Zollpräferenzen\n\nBereits absolvierte Seminarmodule kö
 nnen in Absprache und gegen Vorlage der Seminarbestätigung angerechnet we
 rden!  \n\nZielgruppen:\nZollverantwortliche und Export- und Importveran
 twortliche\nWirtschaftsanwälte\, Steuerberater\, Unternehmensberater\nInt
 eressensvertretungen\nBerufliche Quereinsteiger\n\nZoll-Lehrgang für die 
 Praxis\n\n&nbsp\;\n\n&nbsp\;\n\n&nbsp\;
CATEGORIES:Weiterbildung
LOCATION:Hotel Novapark Graz\, Fischeraustraße 22\, Graz\, 8051\, Österre
 ich
GEO:47.0957632;15.410880700000007
X-APPLE-STRUCTURED-LOCATION;VALUE=URI;X-ADDRESS=Fischeraustraße 22\, Graz\
 , 8051\, Österreich;X-APPLE-RADIUS=100;X-TITLE=Hotel Novapark Graz:geo:47
 .0957632,15.410880700000007
END:VEVENT
BEGIN:VTIMEZONE
TZID:Europe/Vienna
X-LIC-LOCATION:Europe/Vienna
BEGIN:DAYLIGHT
DTSTART:20210328T030000
TZOFFSETFROM:+0100
TZOFFSETTO:+0200
TZNAME:CEST
END:DAYLIGHT
END:VTIMEZONE
END:VCALENDAR