BEGIN:VCALENDAR
VERSION:2.0
PRODID:-//wp-events-plugin.com//6.4.10//EN
TZID:Europe/Vienna
X-WR-TIMEZONE:Europe/Vienna
BEGIN:VEVENT
UID:1203@verkehrsakademie.at
DTSTART;TZID=Europe/Vienna:20200319T130000
DTEND;TZID=Europe/Vienna:20200319T170000
DTSTAMP:20200212T110342Z
URL:https://www.verkehrsakademie.at/events/zollpruefung-in-ihrem-unternehm
 en-was-sie-darueber-wissen-sollten/
SUMMARY:Zollprüfung in Ihrem Unternehmen - Was Sie darüber wissen sollten
 !
DESCRIPTION:Bei einer Zollprüfung wird geprüft ob ein exportierendes bz
 w. importierendes Unternehmen die Vorschriften und Richtlinien des Zollre
 chts einhält. Dieses Seminar zeigt Ihnen den Ablauf einer Zollprüfung a
 uf und macht Sie fit für Ihren nächste Prüfung durch die Beamten der Zo
 llverwaltung. Erhalten Sie praktische Tipps für eine optimale Vorbereitun
 g.\n\nArbeitsschwerpunkte:\nAblauf einer Zollprüfung\nWas wird geprüft\
 nWo liegen die besonderen Risikobereiche für Ihr Unternehmen\nWichtige 
 Unterlagen und Daten für eine Prüfung\nIhre Korrekturmöglichkeiten\nWe
 lche prüfungsbegleitenden Maßnahmen sind sinnvoll?\nMitwirkungsrechte un
 d Pflichten von Mitarbeitern\nHäufige Fehlerquellen\nKonsequenzen einer
  Zollprüfung\n\nAbschließend können im Rahmen der geplanten Seminar-Inh
 alte individuelle Fragen diskutiert werden.\n\nZielgruppe:\nZollverantwort
 liche und Zollsachbearbeiter\nGeschäftsführer\, Steuerberater\nUnternehm
 ensberater\nUnternehmer\n\nFlyer Zollprüfung\n\n&nbsp\;\n\n&nbsp\;\n\n&nb
 sp\;\n\n&nbsp\;
CATEGORIES:Veranstaltungen,Weiterbildung
LOCATION:Hotel Ibis Styles Linz\, Wankmüllerhofstraße 37\, 4020 Linz\, Ob
 erösterreich\, 4020\, Österreich
GEO:48.2810668;14.304692100000011
X-APPLE-STRUCTURED-LOCATION;VALUE=URI;X-ADDRESS=Wankmüllerhofstraße 37\, 
 4020 Linz\, Oberösterreich\, 4020\, Österreich;X-APPLE-RADIUS=100;X-TITL
 E=Hotel Ibis Styles Linz:geo:48.2810668,14.304692100000011
END:VEVENT
BEGIN:VTIMEZONE
TZID:Europe/Vienna
X-LIC-LOCATION:Europe/Vienna
BEGIN:STANDARD
DTSTART:20191027T020000
TZOFFSETFROM:+0200
TZOFFSETTO:+0100
TZNAME:CET
END:STANDARD
END:VTIMEZONE
END:VCALENDAR